BEGIN:VCALENDAR
VERSION:2.0
PRODID:-//Wings Level - UPRT, Aerobatic and beyond - ECPv6.15.20//NONSGML v1.0//EN
CALSCALE:GREGORIAN
METHOD:PUBLISH
X-ORIGINAL-URL:https://wingslevel.ch
X-WR-CALDESC:Events for Wings Level - UPRT, Aerobatic and beyond
REFRESH-INTERVAL;VALUE=DURATION:PT1H
X-Robots-Tag:noindex
X-PUBLISHED-TTL:PT1H
BEGIN:VTIMEZONE
TZID:UTC
BEGIN:STANDARD
TZOFFSETFROM:+0000
TZOFFSETTO:+0000
TZNAME:UTC
DTSTART:20210101T000000
END:STANDARD
END:VTIMEZONE
BEGIN:VEVENT
DTSTART;VALUE=DATE:20230210
DTEND;VALUE=DATE:20230212
DTSTAMP:20260424T172423
CREATED:20221207T100535Z
LAST-MODIFIED:20221218T074709Z
UID:1005-1675987200-1676159999@wingslevel.ch
SUMMARY:Upset Prevention and Recovery Seminar (UPRS) #2 (Postponed)
DESCRIPTION:Spin recovery\nThe Upset Prevention and Recovery Seminar (UPRS) #2\, which was postponed due adverse weather conditions\, is now organised on February the 10th and 11th 2023 in Neuchâtel. \nUseful links: \n\nWhat is an UPRS?\nUPRS “Verde” Program\nSkynews.ch report from Wings Level UPRS#1\nReserve your seat!\n\nCourse will be held in English (don’t worry your English level 4 will be more than enough!)
URL:https://wingslevel.ch/event/upset-prevention-and-recovery-seminar-uprs-2-postponed/
LOCATION:Neuchatel Airfield\, Aerodrome\, Colombier\, NE\, 2013\, Switzerland
CATEGORIES:UPRT Seminars
END:VEVENT
BEGIN:VEVENT
DTSTART;TZID=UTC:20221209T080000
DTEND;TZID=UTC:20221210T170000
DTSTAMP:20260424T172423
CREATED:20220922T093423Z
LAST-MODIFIED:20220927T093845Z
UID:964-1670572800-1670691600@wingslevel.ch
SUMMARY:UPRS #2 Verde in Neuchâtel
DESCRIPTION:After the first successful UPRS (Upset Prevention and Recovery Seminar) Wings Level is proud to call for the second UPRS VERDE at Neuchâtel airfield. \nThis second course will take place from the 09.12.2022 to the 10.12.2022. In case of bad weather conditions the course will be postponed in January. \nUseful links: \n\nWhat is an UPRS?\nUPRS “Verde” Program\nSkynews.ch report from Wings Level UPRS#1\nReserve your seat!\n\nCourse will be held in English (don’t worry your English level 4 will be more than enough!)
URL:https://wingslevel.ch/event/uprs-2-verde-in-neuchatel/
LOCATION:Neuchatel Airfield\, Aerodrome\, Colombier\, NE\, 2013\, Switzerland
CATEGORIES:UPRT Seminars
ATTACH;FMTTYPE=image/png:https://wingslevel.ch/wp-content/uploads/2022/08/IMG_3186-1.png
END:VEVENT
BEGIN:VEVENT
DTSTART;VALUE=DATE:20220812
DTEND;VALUE=DATE:20220814
DTSTAMP:20260424T172423
CREATED:20220620T060554Z
LAST-MODIFIED:20220803T070028Z
UID:254-1660262400-1660435199@wingslevel.ch
SUMMARY:Neuchâtel First Upset Prevention and Recovery Seminar
DESCRIPTION:In Europe between 2011 and 2015 loss of control in flight caused 66 fatalities in 39 accidents and the numbers are continuously increasing. \nWhy these accidents are still happening? \nMore than 90% of LOC-I were generated from upsets which were unnoticed and therefore impossible to recover. \nIf you are you a PPL (A) holder or a student pilot and would like to master any upset you have landed at the right airfield ! \nDuring 2 days of UPRS (Upset Prevention and Recovery Seminar) you will be trained to: \nAvoid\, recognise and recover from any upset ! \nThe seminar is open to all pilots and student pilots and includes 3 hours theory + 1 hour flight time\, briefings and de-briefings for a total of more than 5 hours training. \n\nRegister today to the UPRS (Upset Prevention and recovery seminar 001 in Neuchâthel!) \nPlease check out Wings Level UPRS structure clicking here \nChoose one of the following options: \nContact us to ask for more information filling the following form\n[contact-form to=”fly@wingslevel.swiss” subject=”UPRS Neuchâtel”][contact-field label=”Name and surname” type=”name” required=”1″][contact-field label=”Email” type=”email” required=”1″][contact-field label=”Message (Type of aircraft flown and license)” type=”textarea” required=”1″][/contact-form] \n  \nBook & pay with the online payment system below.\nThis seminar will be held in English \nIn case of bad weather the event will be re-scheduled. \n 
URL:https://wingslevel.ch/event/neufchatel-first-uprt-seminar-ppl-a/
LOCATION:Neuchatel Airfield\, Aerodrome\, Colombier\, NE\, 2013\, Switzerland
CATEGORIES:UPRT Seminars
ATTACH;FMTTYPE=image/jpeg:https://wingslevel.ch/wp-content/uploads/2022/05/GPTempDownload.jpeg
END:VEVENT
END:VCALENDAR