BEGIN:VCALENDAR
VERSION:2.0
PRODID:-//Wings Level - UPRT, Aerobatic and beyond - ECPv6.15.20//NONSGML v1.0//EN
CALSCALE:GREGORIAN
METHOD:PUBLISH
X-WR-CALNAME:Wings Level - UPRT, Aerobatic and beyond
X-ORIGINAL-URL:https://wingslevel.ch
X-WR-CALDESC:Events for Wings Level - UPRT, Aerobatic and beyond
REFRESH-INTERVAL;VALUE=DURATION:PT1H
X-Robots-Tag:noindex
X-PUBLISHED-TTL:PT1H
BEGIN:VTIMEZONE
TZID:UTC
BEGIN:STANDARD
TZOFFSETFROM:+0000
TZOFFSETTO:+0000
TZNAME:UTC
DTSTART:20210101T000000
END:STANDARD
END:VTIMEZONE
BEGIN:VEVENT
DTSTART;VALUE=DATE:20250708
DTEND;VALUE=DATE:20250710
DTSTAMP:20260424T001410
CREATED:20250602T101716Z
LAST-MODIFIED:20250602T103041Z
UID:2480-1751932800-1752105599@wingslevel.ch
SUMMARY:UPRS 03.2025
DESCRIPTION:Join Wings Level for a comprehensive two-day Upset Prevention and Recovery Seminar (UPRS) at Birrfeld on 08.07.2025 and 09.07.2025. \nDesigned for all aviators—students\, PPL holders\, and professionals—this course will strengthen your understanding of aerodynamic upset and loss-of-control (LOC-I) scenarios and give you hands-on practice to recover safely. \nEnrol yourself writing at: https://wingslevel.ch/uprs-registration-form/ \nYou will learn: \n\nFundamentals of aircraft aerodynamics and performance at the edges of the envelope\nRecognition of impending upset conditions (unusual attitudes\, stalls\, spins)\nRoot causes & case-study analysis of recent LOC-I incidents\nUse of simulators and flight data for early detection\nPractical risk-management strategies and decision-making under stress\n\nYou will practise: \n\nPre-flight briefing and cockpit demonstration\nIn-flight upset recognition drills (nose-high\, nose-low\, roll-over\, slow flight)\nRecovery techniques using pitch\, power\, and roll inputs\nHands-on practice recovering from intentional\, instructor-initiated unusual attitudes\nPost-flight debrief with video analysis and feedback\n\nEnrol yourself writing at: https://wingslevel.ch/uprs-registration-form/ \nCheckout our UPRS page for more info: https://wingslevel.ch/upset-prevention-and-recovery-seminars-uprs/
URL:https://wingslevel.ch/event/uprs-03-2025/
LOCATION:Birrfeld airfield\, Birrfeld\, Switzerland
CATEGORIES:UPRT Seminars
ATTACH;FMTTYPE=image/jpeg:https://wingslevel.ch/wp-content/uploads/2024/06/Sequence.jpg
END:VEVENT
BEGIN:VEVENT
DTSTART;TZID=UTC:20240916T080000
DTEND;TZID=UTC:20240917T170000
DTSTAMP:20260424T001410
CREATED:20240830T060743Z
LAST-MODIFIED:20240830T084130Z
UID:2273-1726473600-1726592400@wingslevel.ch
SUMMARY:Stall awareness\, prevention and recovery seminar
DESCRIPTION:https://wingslevel.ch/wp-content/uploads/2024/08/spin-loop-SD-480p.mp4\nCalling all pilots and aviation enthusiasts! Join us at the Birrfeld Airfield on September 16th and 17th\, 2024\, for the Wings Level Event\, focused on Stall Awareness\, Prevention\, and Recovery. \nThis two-day event is designed to enhance your understanding and skills in managing stall situations\, a critical aspect of aviation safety. Whether you’re a seasoned pilot or a student\, this event offers valuable insights through expert-led sessions\, practical demonstrations\, and interactive ground training. \nWhy Attend? Stall-induced loss of control in flight (LOC-I) is a leading cause of aviation accidents worldwide. According to the International Civil Aviation Organization (ICAO)\, LOC-I\, often resulting from a stall\, accounted for over 40% of fatal accidents in commercial aviation from 2010 to 2019. In general aviation\, the statistics are even more alarming. The National Transportation Safety Board (NTSB) reports that stall-related accidents are responsible for nearly 50% of all general aviation fatalities. \nEvent Highlights: \n\n3-Hour Theoretical Course: Dive deep into the mechanics of stall\, its causes\, and how to prevent and recover from it. This comprehensive course will cover everything you need to know about stall\, from aerodynamics to real-world case studies.\n1-Hour Practical Training: Don’t miss this outstanding opportunity to experience stall recovery first-hand! This session allows you to personally try several types of stalls in a controlled environment and learn the critical techniques needed to recover from them. This practical training could make the difference in a real-life situation\, helping you to save your life and the lives of others.\nNetworking Opportunities: Connect with fellow aviation enthusiasts and professionals.\n\nCourse Fee: 750 CHF\, – including: \n\n3 hours theoretical training\n1 hour block time practical training on the FA150K\nDidactical material\n\nDon’t miss this opportunity to elevate your aviation safety knowledge and skills. Mark your calendar for September 16-17\, 2024\, and be a part of this essential event at Birrfeld Airfield! \nRegister now to secure your spot. \nSee you in Birrfeld! \nThe course will be held by Hampi Leemann and Andrea Salomoni
URL:https://wingslevel.ch/event/stall-awareness-prevention-and-recovery-seminar/
LOCATION:Birrfeld airfield\, Birrfeld\, Switzerland
CATEGORIES:UPRT Seminars
END:VEVENT
BEGIN:VEVENT
DTSTART;VALUE=DATE:20230930
DTEND;VALUE=DATE:20231002
DTSTAMP:20260424T001410
CREATED:20230831T040255Z
LAST-MODIFIED:20230907T041918Z
UID:1558-1696032000-1696204799@wingslevel.ch
SUMMARY:Upset Prevention and Recovery Seminar in Birrfeld
DESCRIPTION:Dear fellow Aviators\, Safety First! \nUpset and Loss of Control in Flight (LOC-I) have been identified as the main causes of hull loss and fatalities in aviation. In Switzerland\, the Federal Office of Civil Aviation (FOCA) and Wings Level have published an informative article on this subject. \nNow you can get hands-on experience and learn how to recognise\, prevent\, and recover from any upset and Loss of Control in Flight (LOC-I) by enrolling in the upcoming Upset Prevention and Recovery Seminar at Birrfeld!  Mark your calendars for September 30th – October 1st for two exhilarating days dedicated to enhancing your safety skills in countering and overcoming aircraft upsets through practical exercises on an aerobatic airplane. \nUnleash the Thrill\, Ensuring Safety: \nHands-on training curated for pilots of all skill sets\, with safety at the forefront. Expert-led masterclasses on recognising and safely recovering from upsets. Collaborative sessions to exchange insights and fortify safety practices. \n🛫 Adventures Await: Immerse yourself in practical exercises conducted on an aerobatic airplane\, taking your skills to new heights and mastering manoeuvres. \nWhether you’re a seasoned pro or taking your first flight\, this seminar is your safety net for enhanced skills! Stay tuned for registration details and an impressive lineup of safety-conscious speakers. \nContact us for more info \nReserve your seat ! \nhttps://wingslevel.ch/wp-content/uploads/2023/05/Loop-Birrfeld.mp4\nReserve your seat !
URL:https://wingslevel.ch/event/upset-prevention-and-recovery-seminar-in-birrfeld/
LOCATION:Birrfeld airfield\, Birrfeld\, Switzerland
CATEGORIES:UPRT Seminars
ATTACH;FMTTYPE=image/png:https://wingslevel.ch/wp-content/uploads/2023/06/nose-low-inverted.png
END:VEVENT
BEGIN:VEVENT
DTSTART;TZID=UTC:20230624T090000
DTEND;TZID=UTC:20230625T170000
DTSTAMP:20260424T001410
CREATED:20230516T192926Z
LAST-MODIFIED:20230601T195547Z
UID:1470-1687597200-1687712400@wingslevel.ch
SUMMARY:Upset Prevention and Recovery Seminar in Neuchâtel "The Stall"
DESCRIPTION:Although recovering from stalls is one of the basic skills taught during a pilot training\, LOC-I due to poor stall recovery is still one of the biggest threat to aviation safety. The stall is indeed the leading cause of loss of control in-flight and by far the leading cause of fatal aircraft accidents. \nhttps://wingslevel.ch/wp-content/uploads/2023/05/Loop-Birrfeld.mp4\nIf you wish to enhance your resilience to the psychological and physiological aspects associated with upset conditions due to stalls\, join our upcoming seminar “Stall Prevention\, Recognition and Recovery” on the 24 and 25 of June in Neuchâtel.  \nReserve your seat now ! \nThe seminar has been structured as follows: \nDAY1 24.06.2023 \n09:00Meeting in Neuchâtel and coffee  \n09:20 – 12:00 Theory  \n12:00 – 13:00 Lunch  \n13:00 – 14:00 Crew Briefing  \n14:00 – 17:00 Fly sessions  \n17:00 – 17:30 De-briefing  \n18:00 – TDB BBQ all together  \nDAY2 25.06.2023 \n09:00 Meeting and coffee  \n09:20 – 10:00 Crew briefing  \n10:00 – 12:00 Fly sessions  \n12:00 – 13:00 Lunch  \n13:00 – 16:00 Fly sessions  \n16:00 – 16:30 De-briefing  \n17:00 – 18:00 Apero \nPrice \nThe price is 680\,- CHF and includes: \n\n3 Hours theory \n1 hour block time \n1 hour briefing and de-briefing \nFinal Apero \nWings Level T-shirt \nCertificate of attendance \n\nFor pilots attending the BBQ additional 30 CHF will be charged. \nReserve your seat now ! \nCheck out the Wings Level Upset Prevention and Recovery Seminar structure \nLearn more about Wings Level Upset Prevention and Recovery Seminar
URL:https://wingslevel.ch/event/upset-prevention-and-recovery-seminar-in-neuchatel-the-stall/
LOCATION:Neuchatel Airfield\, Aerodrome\, Colombier\, NE\, 2013\, Switzerland
CATEGORIES:UPRT Seminars
ATTACH;FMTTYPE=image/png:https://wingslevel.ch/wp-content/uploads/2022/08/IMG_3186-2-e1660675256364.png
END:VEVENT
BEGIN:VEVENT
DTSTART;TZID=UTC:20230421T080000
DTEND;TZID=UTC:20230421T190000
DTSTAMP:20260424T001410
CREATED:20230417T123023Z
LAST-MODIFIED:20230417T183137Z
UID:1302-1682064000-1682103600@wingslevel.ch
SUMMARY:UPRS 002 For A320 Pilots in Birrfeld CH
DESCRIPTION:Wings Level is proud to have organised a new Upset Prevention and Recovery Seminar in Switzerland. This time\, the UPRS will be held in our home-base Birrfeld LSZF. \nThe new Upset Prevention and Recovery Seminar is dedicated to airline pilots fighting against autopilot complacency and degrading handling skills. \nThe event is SOLD OUT. Please refer to our bucket-list page to express your interest for the next UPRS.
URL:https://wingslevel.ch/event/uprs-002-for-a320-pilots-in-birrfeld-ch/
CATEGORIES:UPRT Seminars
END:VEVENT
BEGIN:VEVENT
DTSTART;VALUE=DATE:20230210
DTEND;VALUE=DATE:20230212
DTSTAMP:20260424T001410
CREATED:20221207T100535Z
LAST-MODIFIED:20221218T074709Z
UID:1005-1675987200-1676159999@wingslevel.ch
SUMMARY:Upset Prevention and Recovery Seminar (UPRS) #2 (Postponed)
DESCRIPTION:Spin recovery\nThe Upset Prevention and Recovery Seminar (UPRS) #2\, which was postponed due adverse weather conditions\, is now organised on February the 10th and 11th 2023 in Neuchâtel. \nUseful links: \n\nWhat is an UPRS?\nUPRS “Verde” Program\nSkynews.ch report from Wings Level UPRS#1\nReserve your seat!\n\nCourse will be held in English (don’t worry your English level 4 will be more than enough!)
URL:https://wingslevel.ch/event/upset-prevention-and-recovery-seminar-uprs-2-postponed/
LOCATION:Neuchatel Airfield\, Aerodrome\, Colombier\, NE\, 2013\, Switzerland
CATEGORIES:UPRT Seminars
END:VEVENT
BEGIN:VEVENT
DTSTART;TZID=UTC:20221209T080000
DTEND;TZID=UTC:20221210T170000
DTSTAMP:20260424T001410
CREATED:20220922T093423Z
LAST-MODIFIED:20220927T093845Z
UID:964-1670572800-1670691600@wingslevel.ch
SUMMARY:UPRS #2 Verde in Neuchâtel
DESCRIPTION:After the first successful UPRS (Upset Prevention and Recovery Seminar) Wings Level is proud to call for the second UPRS VERDE at Neuchâtel airfield. \nThis second course will take place from the 09.12.2022 to the 10.12.2022. In case of bad weather conditions the course will be postponed in January. \nUseful links: \n\nWhat is an UPRS?\nUPRS “Verde” Program\nSkynews.ch report from Wings Level UPRS#1\nReserve your seat!\n\nCourse will be held in English (don’t worry your English level 4 will be more than enough!)
URL:https://wingslevel.ch/event/uprs-2-verde-in-neuchatel/
LOCATION:Neuchatel Airfield\, Aerodrome\, Colombier\, NE\, 2013\, Switzerland
CATEGORIES:UPRT Seminars
ATTACH;FMTTYPE=image/png:https://wingslevel.ch/wp-content/uploads/2022/08/IMG_3186-1.png
END:VEVENT
BEGIN:VEVENT
DTSTART;VALUE=DATE:20220812
DTEND;VALUE=DATE:20220814
DTSTAMP:20260424T001410
CREATED:20220620T060554Z
LAST-MODIFIED:20220803T070028Z
UID:254-1660262400-1660435199@wingslevel.ch
SUMMARY:Neuchâtel First Upset Prevention and Recovery Seminar
DESCRIPTION:In Europe between 2011 and 2015 loss of control in flight caused 66 fatalities in 39 accidents and the numbers are continuously increasing. \nWhy these accidents are still happening? \nMore than 90% of LOC-I were generated from upsets which were unnoticed and therefore impossible to recover. \nIf you are you a PPL (A) holder or a student pilot and would like to master any upset you have landed at the right airfield ! \nDuring 2 days of UPRS (Upset Prevention and Recovery Seminar) you will be trained to: \nAvoid\, recognise and recover from any upset ! \nThe seminar is open to all pilots and student pilots and includes 3 hours theory + 1 hour flight time\, briefings and de-briefings for a total of more than 5 hours training. \n\nRegister today to the UPRS (Upset Prevention and recovery seminar 001 in Neuchâthel!) \nPlease check out Wings Level UPRS structure clicking here \nChoose one of the following options: \nContact us to ask for more information filling the following form\n[contact-form to=”fly@wingslevel.swiss” subject=”UPRS Neuchâtel”][contact-field label=”Name and surname” type=”name” required=”1″][contact-field label=”Email” type=”email” required=”1″][contact-field label=”Message (Type of aircraft flown and license)” type=”textarea” required=”1″][/contact-form] \n  \nBook & pay with the online payment system below.\nThis seminar will be held in English \nIn case of bad weather the event will be re-scheduled. \n 
URL:https://wingslevel.ch/event/neufchatel-first-uprt-seminar-ppl-a/
LOCATION:Neuchatel Airfield\, Aerodrome\, Colombier\, NE\, 2013\, Switzerland
CATEGORIES:UPRT Seminars
ATTACH;FMTTYPE=image/jpeg:https://wingslevel.ch/wp-content/uploads/2022/05/GPTempDownload.jpeg
END:VEVENT
END:VCALENDAR