BEGIN:VCALENDAR
VERSION:2.0
PRODID:-//Wings Level - UPRT, Aerobatic and beyond - ECPv6.15.20//NONSGML v1.0//EN
CALSCALE:GREGORIAN
METHOD:PUBLISH
X-ORIGINAL-URL:https://wingslevel.ch
X-WR-CALDESC:Events for Wings Level - UPRT, Aerobatic and beyond
REFRESH-INTERVAL;VALUE=DURATION:PT1H
X-Robots-Tag:noindex
X-PUBLISHED-TTL:PT1H
BEGIN:VTIMEZONE
TZID:UTC
BEGIN:STANDARD
TZOFFSETFROM:+0000
TZOFFSETTO:+0000
TZNAME:UTC
DTSTART:20230101T000000
END:STANDARD
END:VTIMEZONE
BEGIN:VEVENT
DTSTART;TZID=UTC:20250823T100000
DTEND;TZID=UTC:20250823T183000
DTSTAMP:20260423T222813
CREATED:20250804T062538Z
LAST-MODIFIED:20250806T150642Z
UID:2508-1755943200-1755973800@wingslevel.ch
SUMMARY:Defy Gravity 2025!
DESCRIPTION:Defy Gravity 2025 – Save the Date!📍 Birrfeld LSZF📅 23 August 2025🕙 09:30 – 17:00 \nWe’re excited to announce that this year’s Defy Gravity event will take place at Birrfeld and will be all about connection\, discovery\, and flight! \nThis special edition will feature the official presentation of our new VOTEC 252T – a stunning machine built to perform. You’ll also have the opportunity to experience its capabilities first-hand during a 15-minute test flight (limited slots available). \n🔥 BBQ & Good VibesA complimentary BBQ will be offered to our valued customers and all aviation enthusiasts joining us on the day. Please confirm your free attendance from the RSVP form. \n👉 Interested in joining or flying the VOTEC 252T?Please buy tickets from this page. \nCome meet the team\, connect with like-minded pilots\, and see what defying gravity really feels like. ✈️ \nIf you fly-in\, please write us an email at media@wingslevel.swiss and we will send you all the relevant information you need. \nIf you drive-in\, please find how to reach us in the contact page !
URL:https://wingslevel.ch/event/defy-gravity-2025/
CATEGORIES:Airshow / Meet-up
ATTACH;FMTTYPE=image/jpeg:https://wingslevel.ch/wp-content/uploads/2024/06/C0248.MP4.09_30_05_56.Standbild001.jpg
END:VEVENT
BEGIN:VEVENT
DTSTART;TZID=UTC:20240615T080000
DTEND;TZID=UTC:20240615T180000
DTSTAMP:20260423T222813
CREATED:20240402T114609Z
LAST-MODIFIED:20240429T130916Z
UID:1911-1718438400-1718474400@wingslevel.ch
SUMMARY:Defy Gravity Meet-Up 2024 Edition - Spin awareness practical training
DESCRIPTION:Wings Level is proud to partecipate to the Defy Gravity Meet-Up! 2024 edition with exciting workshops and an exclusive practical training offer. \n  \nAt the heart of our event\, for interested pilots\, is the chance to fly with a certified Wings Level instructor for ca. 20 minutes (flight time)\, focusing on spin awareness\, recognition\, and recovery techniques. \nSlots for this exclusive flight experience are limited\, so secure your spot today. Don’t miss out on this inaugural event to elevate your flying skills and be part of a passionate aviation community! \nUse our reservation system to book your private Spin awareness\, recognition and recovery training at a cost of 200\,- CHF (Flight time around 20′). \n[ssa_booking type=spin-awareness-recognition-and-recovery] \n  \nPlease\, for in-depth information\, visit the following page: https://wingslevel.ch/defy-gravity-meet-up-2024/
URL:https://wingslevel.ch/event/defy-gravity-meet-up-first-edition/
LOCATION:Raron Flugplatz\, 3942 Raron\, Raron\, Switzerland
CATEGORIES:Airshow / Meet-up
END:VEVENT
END:VCALENDAR